BEGIN:VCALENDAR
VERSION:2.0
PRODID:-//Škola zdraví - ECPv6.15.14//NONSGML v1.0//EN
CALSCALE:GREGORIAN
METHOD:PUBLISH
X-ORIGINAL-URL:https://www.skolazdravi.eu
X-WR-CALDESC:Akce na Škola zdraví
REFRESH-INTERVAL;VALUE=DURATION:PT1H
X-Robots-Tag:noindex
X-PUBLISHED-TTL:PT1H
BEGIN:VTIMEZONE
TZID:Europe/Prague
BEGIN:DAYLIGHT
TZOFFSETFROM:+0100
TZOFFSETTO:+0200
TZNAME:CEST
DTSTART:20240331T010000
END:DAYLIGHT
BEGIN:STANDARD
TZOFFSETFROM:+0200
TZOFFSETTO:+0100
TZNAME:CET
DTSTART:20241027T010000
END:STANDARD
BEGIN:DAYLIGHT
TZOFFSETFROM:+0100
TZOFFSETTO:+0200
TZNAME:CEST
DTSTART:20250330T010000
END:DAYLIGHT
BEGIN:STANDARD
TZOFFSETFROM:+0200
TZOFFSETTO:+0100
TZNAME:CET
DTSTART:20251026T010000
END:STANDARD
BEGIN:DAYLIGHT
TZOFFSETFROM:+0100
TZOFFSETTO:+0200
TZNAME:CEST
DTSTART:20260329T010000
END:DAYLIGHT
BEGIN:STANDARD
TZOFFSETFROM:+0200
TZOFFSETTO:+0100
TZNAME:CET
DTSTART:20261025T010000
END:STANDARD
END:VTIMEZONE
BEGIN:VEVENT
DTSTART;TZID=Europe/Prague:20250412T100000
DTEND;TZID=Europe/Prague:20250413T160000
DTSTAMP:20260420T005758
CREATED:20241124T191023Z
LAST-MODIFIED:20250402T135223Z
UID:12730-1744452000-1744560000@www.skolazdravi.eu
SUMMARY:Plzeň - 34. ZŠ Gerská - Cesta k harmonii\, vnitřní síle a dlouhověkosti - duben
DESCRIPTION:Harmonie\, to je zdraví\, síla a krása\, štíhlé\, pružné tělo\, lesk v očích\, úspěch ve všech aktivitách\, láska a souznění s blízkými\, pohoda v životě. Kdo z nás  by o tom nesnil. Jak důležité je pro každého dosažení vnitřní harmonie a jednoty s okolním světem? Bez naplnění všeho zmíněného je těžké mluvit o dobrém zdravotním stavu. \nDlouhověká zkušenost tradiční čínské medicíny se ztělesnila do jednoduchého a zároveň mocného  ozdravného systému čchi-kung. Jeho výsledky  jsou nevyčíslitelné: mladost\, dlouhověkost\, vnitřní síla a rozvinutá intuice  … Je to cesta pro ty\, kteří chtějí být zdraví\, jak fyzicky tak i duchovně. Zvláště užitečné  je cvičení čchi-kung pro ty\, kteří nemají čas i možnost věnovat se dlouhému klasickému cvičení. Při své jednoduchosti  čchi-kung zvyšuje životní aktivitu\, pomáhá při práci a tvořivosti. Je to umění rozvoje energie\, trénink mysli a první krok k intuitivní moudrosti a harmonii. V taoistické józe /čchi-kungu/ se velmi často používají protahovací cvičení. Ty mají obrovský účinek jak na tělo\, tak na psychiku. Jejich působením na klouby a vazy se přenáší účinek na celé tělo. Pomocí protahovacích cvičení můžeme ovlivnit prakticky vše: dosáhnout pružnosti mládí\, zdraví\, aktivity a dlouhověkosti\, dobré nálady.Znovu pocítíte radost z pohybu a vrátíte se k aktivnímu životu. Poznáte\, jak je možné se zbavit různých onemocnění a dosáhnout vnitřní harmonii. \nMnohým lidem daruje čchi-kung druhý život ! \nKurz vede Elena Tomilina\, úspěšná lektorka východních praktik\, masérka\, terapeutka\, chiropraktička a akademická malířka. Berte program jako  základ  kurzu\, ke  kterému lze zařadit a kombinovat cvičební a ozdravné komplexy související s potřebami účastníků kurzu. (Komplexy budou střídavě používány dle lektorky a přizpůsobeny dle složení účastníků kurzu a prostředí\, aby se dosáhlo maximálního účinku). Kurz je vhodný i pro úplné začátečníky\, je veden v českém jazyce a nenahrazuje odbornou zdravotní péči. \nNa kurzu je možné zakoupit výuková a cvičební DVD k vybraným komplexům a další produkty. Všechny produkty jsou na kurzu pro účastníky s kurzovní slevou (viz. rubrika “Produkty”). \n  \n\n					ČASOVÝ ROZVRH KURZU – upřesňuje lektor kurzu \nv sobotu 12. 4. 2025 \n\n10.00 – 13.00 cvičební blok \n13.00 – 14.00 oběd\, pauza\, \n14.00 – 16.00 cvičební blok \n\nv neděli 13. 4. 2025 \n\n10.00 – 13.00 cvičební blok \n13.00 – 14.00 oběd\, pauza\, \n14.00 – 16.00 cvičební blok\n\n(obrázek lze zvětšit (šipkou vlevo na prohlížeči se vrátíte zpět) \n \n \n					ORGANIZAČNÍ  \n\nKurz a vše okolo kurzu zajišťuje a informace podají:\n\nJana Majerová\, Plzeň\, mobil: 723 002 143\, e-mail: m.joan@seznam.cz \na Ing. Leoš Lacina\, Dolní 356\, 284 01 Kutná Hora\, mobil: 603 258 558\, e-mail : skola.zdravi@seznam.cz\n\n\nProsíme naše klienty a zájemce o kurz\, aby v tomto případě při nejasnostech kontaktovali paní Janu Majerovou nebo Leoše Lacinu\, děkujeme.\nUrčitě si přečtěte rubriku “Důležité informace”\, jsou tam Všeobecné podmínky ke kurzům. Odskok přímo na zkrácená souhrnná pravidla –  zde.\nCena kurzu pro zájemce je 2400\,- Kč (2 denní víkendový kombinovaný kurz\,  kurzovné\, bez ubytování a stravování)\nKurz bude probíhat v Plzni – Lochotín\, 34. ZŠ Gerská 1246/32\, 323 00 Plzeň 1-Bolevec\, v sále tělocvičny školy. \nZačínáme v sobotu 12. 4. od 10–16 hod. a končíme nedělí 13. 4.\, od 10–16 hod (dle domluvy s 1.15hod. pauzou na oběd v so i ne)\nPokud chcete přijít pouze na 1 den\, sežeňte si někoho na další den\, kurzovné nevracíme. \nNutná rezervace místa přihláškou a uhrazeným kurzovným!!!\nKurz  je  limitovaný  počtem  25  účastníků\,  budeme  brát  zřetel  na  rychlost přihlášek a úhradu kurzovného.\n\n  \nJak uhradit kurz\n\nKurzovné uhraďte nejlépe celé 2400\,-Kč do týdne po potvrzení přihlášky\, nejpozději do 30.3. 2025 buď hotově u paní Jany Majerové  v Plzni\, domluvte se tel. 723 002 143 nebo jí napište mail: m.joan@seznam.cz \, jinak složenkou typu C na adresu : Elena Tomilina\, Dolní 356\, 284 01 Kutná Hora. Nezaškrtávejte\, do vlastních rukou\, prosím. Kurzovné nelze vyzvednout a vrátí se Vám zpět.\nDo zprávy pro příjemce napište místo a datum kurzu. Pokud platíte za jinou osobu\, uveďte její jméno a příjmení. Tento vzkaz musí být krátký\, čitelný.\nMůžete se přihlásit i po 30. 3. 2025 a pokud bude volné místo\, budete do kurzu zařazeni. Je potřeba si domluvit s paní Majerovou nebo panem Lacinou o způsobu úhrady. \nMůžete uhradit hotově na předchozích kurzech nebo dle domluvy s panem Lacinou nejpozději do 30. 3. 2025.\nNA BANKOVNÍ ÚČET ZÁLOHA POSÍLAT NEJDE. Děkujeme za pochopení.\n\n  \nJak se přihlásit na kurz\n\nVyplňte\, prosím\, formulář přihlášky pod tímto kurzem a zaškrtnete políčko s GDPR.\n1. Přijde Vám na Váš mail kontrolní mail s přihláškou a zároveň přijde přihláška ke zpracování panu Lacinovi. On Vás bude kontaktovat a vyřizovat další. Kurzovné uhraďte nejlépe do týdne od potvrzení přihlášky.  Jen tak budete řádně přihlášeni.\n2. Po odeslání  přihlášky  a  úhrady  jste  již  do  kurzu  zařazeni.  \n3. Přihláška je závazná. Pokud se nemůžete z vážných důvodů zúčastnit\, je třeba se včas omluvit. Při zrušení kurzu z jiných než zdravotních důvodů do 14tého dne před započetím\, jsme nuceni z uhrazeného kurzu účtovat storno poplatek 1.200\,- Kč\, později kurzovné propadá celé. Pokud se nezůčastníte ze zdravotních důvodů\, kurzovné vám bude na základě dokladu o nemoci částečně vráceno. V tomto případě storno poplatek činí 500\,-Kč. V případě neúčasti z jiných vážných (např. rodinných) důvodů\, je možné úhradu kurzu přesunout na jiný kurz podle vašeho výběru. Nutno oznámit předem písemně.  Pokud neuhradíte zálohu do doby stanovené úhrady a neomluvíte se nebo se kurzu nezúčastníte\, budeme po vás vyžadovat poplatek  2400\,-Kč\, blokujete místo jinému zájemci\, počet míst je opravdu dle kapacity tělocvičny omezen. Přečtěte si rubriku Důležité informace  –  nejen o stornu.\n\n  \nDoprava na kurz a možné ubytování …\n\n\nDoprava na kurz:  individuálně.  Parkovat lze na parkovišti pro zaměstnance školy u bočního vstupu do areálu z Gerské ulice. Tam se sejdeme a půjdeme bočním vchodem do tělocvičny. (obrázek lze zvětšit (šipkou vlevo na prohlížeči se vrátíte zpět)\n\nDoporučujeme přinést s sebou\, pití a svačinu.\nUbytování i stravování si každý hradí sám.\nPotraviny a občerstvení – asijský bufet\, pizerie\, cukrárna i tradiční restaurace – jsou v okruhu 50 – 600 m od místa cvičení…\, Podrobnější info bude pro zájemce k dispozici na místě…\,\n\n  \nCo si vzít s sebou na kurz\n\nNa kurz si vezměte: sportovní oblečení a vhodnou obuv do tělocvičny.  Pokud rádi používáte karimatku\, vezměte si ji určitě s sebou. K některým cvičením budeme potřebovat “Tai-chi -Čchi-Kungovou tyčku”. Tyčka by měla vypadat (viz obrázek) tak\, prosíme\, abyste si ji dle délky Vaší ruky vyrobili nebo nechali vyrobit. Musí být ze dřeva nejlépe se zakulacenými konci. Kdo ji máte z minulých kurzů\, vezměte si ji s sebou.\n\n\n\n\n					 \nAbyste se mohli zúčastnit kurzu\, je potřeba: nemít příznaky covidu-19 nebo nebýt nachlazená/n. \nPřijeďte\, prosíme\, včas. Děkujeme za pochopení. \n\n  \nPokud si nebudete vědět s něčím rady\, zavolejte paní Majerové nebo panu Lacinovi\, oni Vám ochotně poradí.\n \n Nezapomeňte poslat přihlášku a uhradit kurzovné\, do 30. 3. 2025 složenkou a do 30. 3. 2025 hotově. \nMůžete se přihlásit i po 30. 3. 2025 a pokud bude volné místo\, budete do kurzu zařazeni. \nDěkujeme. 
URL:https://www.skolazdravi.eu/kurz/25-04-plzen-cesta-k-harmonii-vnitrni-sile-a-dlouhovekosti-duben/
LOCATION:Plzeň – 34. Základní škola Gerská\,\, Gerská 1246/32\, Plzeň 1 - Bolevec\, Západočeský kraj\, 323 00\, Czech Republic
CATEGORIES:kurz
ATTACH;FMTTYPE=image/jpeg:https://www.skolazdravi.eu/wp-content/uploads/2024/11/2025-04Plzen.jpg
ORGANIZER;CN="%C5%A0kola zdrav%C3%AD Eleny Tomiliny":MAILTO:skola.zdravi@seznam.cz
END:VEVENT
END:VCALENDAR